BEGIN:VCALENDAR
VERSION:2.0
PRODID:-//Ayurveda Association of Florida - ECPv6.15.18//NONSGML v1.0//EN
CALSCALE:GREGORIAN
METHOD:PUBLISH
X-WR-CALNAME:Ayurveda Association of Florida
X-ORIGINAL-URL:https://flayurveda.com
X-WR-CALDESC:Events for Ayurveda Association of Florida
REFRESH-INTERVAL;VALUE=DURATION:PT1H
X-Robots-Tag:noindex
X-PUBLISHED-TTL:PT1H
BEGIN:VTIMEZONE
TZID:America/New_York
BEGIN:DAYLIGHT
TZOFFSETFROM:-0500
TZOFFSETTO:-0400
TZNAME:EDT
DTSTART:20250309T070000
END:DAYLIGHT
BEGIN:STANDARD
TZOFFSETFROM:-0400
TZOFFSETTO:-0500
TZNAME:EST
DTSTART:20251102T060000
END:STANDARD
BEGIN:DAYLIGHT
TZOFFSETFROM:-0500
TZOFFSETTO:-0400
TZNAME:EDT
DTSTART:20260308T070000
END:DAYLIGHT
BEGIN:STANDARD
TZOFFSETFROM:-0400
TZOFFSETTO:-0500
TZNAME:EST
DTSTART:20261101T060000
END:STANDARD
BEGIN:DAYLIGHT
TZOFFSETFROM:-0500
TZOFFSETTO:-0400
TZNAME:EDT
DTSTART:20270314T070000
END:DAYLIGHT
BEGIN:STANDARD
TZOFFSETFROM:-0400
TZOFFSETTO:-0500
TZNAME:EST
DTSTART:20271107T060000
END:STANDARD
END:VTIMEZONE
BEGIN:VEVENT
DTSTART;TZID=America/New_York:20260421T180000
DTEND;TZID=America/New_York:20260421T190000
DTSTAMP:20260421T120103
CREATED:20260414T121705Z
LAST-MODIFIED:20260420T014514Z
UID:10000017-1776794400-1776798000@flayurveda.com
SUMMARY:Yoga Therapy for Perimenopause
DESCRIPTION:Join the Ayurveda Association of Florida (AAF) for an insightful webinar on Yoga Therapy for Perimenopause\, led by certified yoga therapist Shubha Simhadri. Drawing from her extensive training in yoga\, Ayurvedic nutrition\, and holistic wellness\, Shubha will share how breathwork\, mindful movement\, and daily lifestyle practices can help women navigate the physical\, emotional\, and hormonal changes of perimenopause with greater balance and clarity. \n\n\n\nThis session will highlight practical\, personalized approaches that integrate yoga and Ayurveda to support overall well-being and long-term health. Whether you’re experiencing this phase yourself or want to better understand integrative care options\, this webinar offers valuable\, real-world tools you can apply right away. \n\n\n\nAll are welcome!
URL:https://flayurveda.com/event/yoga-therapy-for-perimenopause/
CATEGORIES:Webinar
ATTACH;FMTTYPE=image/jpeg:https://flayurveda.com/wp-content/uploads/2026/04/WhatsApp-Image-2026-04-13-at-22.30.42.jpeg
END:VEVENT
END:VCALENDAR